BEGIN:VCALENDAR
VERSION:2.0
PRODID:-//eventon.com NONSGML v1.0//EN
CALSCALE:GREGORIAN
METHOD:PUBLISH
BEGIN:VEVENT
UID:69e9da17145a9
DTSTAMP:20260423T083639Z
DTSTART:20190824
DTEND:20190825
LOCATION:Saratoga Race Course 267 Union Avenue\,  Saratoga Springs\,  NY 12866
SUMMARY:H. Allen Jerkens Stakes presented by Runhappy
DESCRIPTION:H. Allen Jerkens Stakes presented by Runhappy\nhttps://toba.org
 /events/h-allen-jerkens-stakes/
URL:https://toba.org/events/h-allen-jerkens-stakes/
END:VEVENT
END:VCALENDAR