BEGIN:VCALENDAR
VERSION:2.0
PRODID:-//eventon.com NONSGML v1.0//EN
CALSCALE:GREGORIAN
METHOD:PUBLISH
BEGIN:VEVENT
UID:69e5e60938f2d
DTSTAMP:20260420T083833Z
DTSTART:20190824
DTEND:20190825
LOCATION:Saratoga Race Course 267 Union Avenue\,  Saratoga Springs\,  NY 12866
SUMMARY:Forego Stakes
DESCRIPTION:Forego Stakes\nhttps://toba.org/events/forego-stakes/
URL:https://toba.org/events/forego-stakes/
END:VEVENT
END:VCALENDAR