BEGIN:VCALENDAR
VERSION:2.0
PRODID:-//eventon.com NONSGML v1.0//EN
CALSCALE:GREGORIAN
METHOD:PUBLISH
BEGIN:VEVENT
UID:69e7751122493
DTSTAMP:20260421T130105Z
DTSTART:20200314
DTEND:20200315
LOCATION:Santa Anita Park 285 W Huntington Dr\,  Arcadia\,  CA 91007
SUMMARY:Beholder Mile Stakes
DESCRIPTION:Beholder Mile Stakes\nhttps://toba.org/events/beholder-mile-sta
 kes/
URL:https://toba.org/events/beholder-mile-stakes/
END:VEVENT
END:VCALENDAR