BEGIN:VCALENDAR
VERSION:2.0
PRODID:-//eventon.com NONSGML v1.0//EN
CALSCALE:GREGORIAN
METHOD:PUBLISH
BEGIN:VEVENT
UID:69e4d34ec4cd7
DTSTAMP:20260419T130622Z
DTSTART:20190511
DTEND:20190512
LOCATION:Belmont Park 2150 Hempstead Turnpike\,  Elmont\,  NY 11003
SUMMARY:Man O’ War Stakes
DESCRIPTION:Man O’ War Stakes\nhttps://toba.org/events/man-o-war-stakes/
URL:https://toba.org/events/man-o-war-stakes/
END:VEVENT
END:VCALENDAR