BEGIN:VCALENDAR
VERSION:2.0
PRODID:-//eventon.com NONSGML v1.0//EN
CALSCALE:GREGORIAN
METHOD:PUBLISH
BEGIN:VEVENT
UID:69e889cf4ea6f
DTSTAMP:20260422T084151Z
DTSTART:20201107
DTEND:20201108
LOCATION:Keeneland 4201 Versailles Rd\,  Lexington\,  KY 40510
SUMMARY:Breeders' Cup Filly and Mare Turf
DESCRIPTION:Breeders' Cup Filly and Mare Turf\nhttps://toba.org/events/bree
 ders-cup-filly-mare-turf/
URL:https://toba.org/events/breeders-cup-filly-mare-turf/
END:VEVENT
END:VCALENDAR