BEGIN:VCALENDAR
VERSION:2.0
PRODID:-//eventon.com NONSGML v1.0//EN
CALSCALE:GREGORIAN
METHOD:PUBLISH
BEGIN:VEVENT
UID:69e5e72dbc636
DTSTAMP:20260420T084325Z
DTSTART:20201106
DTEND:20201107
LOCATION:Keeneland 4201 Versailles Rd\,  Lexington\,  KY 40510
SUMMARY:Breeders' Cup Juvenile Fillies Turf
DESCRIPTION:Breeders' Cup Juvenile Fillies Turf\nhttps://toba.org/events/br
 eeders-cup-juvenile-fillies-turf/
URL:https://toba.org/events/breeders-cup-juvenile-fillies-turf/
END:VEVENT
END:VCALENDAR