BEGIN:VCALENDAR
VERSION:2.0
PRODID:-//eventon.com NONSGML v1.0//EN
CALSCALE:GREGORIAN
METHOD:PUBLISH
BEGIN:VEVENT
UID:69e4d6e357329
DTSTAMP:20260419T132139Z
DTSTART:20201106
DTEND:20201107
LOCATION:Keeneland 4201 Versailles Rd\,  Lexington\,  KY 40510
SUMMARY:Breeders' Cup Juvenile Turf presented by Coolmore America
DESCRIPTION:Breeders' Cup Juvenile Turf presented by Coolmore America\nhttp
 s://toba.org/events/breeders-cup-juvenile-turf/
URL:https://toba.org/events/breeders-cup-juvenile-turf/
END:VEVENT
END:VCALENDAR