BEGIN:VCALENDAR
VERSION:2.0
PRODID:-//eventon.com NONSGML v1.0//EN
CALSCALE:GREGORIAN
METHOD:PUBLISH
BEGIN:VEVENT
UID:69e5e72e85e08
DTSTAMP:20260420T084326Z
DTSTART:20190928
DTEND:20190929
LOCATION:Santa Anita Park 285 W Huntington Dr\,  Arcadia\,  CA 91007
SUMMARY:Rodeo Drive Stakes
DESCRIPTION:Rodeo Drive Stakes\nhttps://toba.org/events/rodeo-drive-stakes/
URL:https://toba.org/events/rodeo-drive-stakes/
END:VEVENT
END:VCALENDAR